BEGIN:VCALENDAR
VERSION:2.0
PRODID:-//Fachnetzwerk gegen Antisemitismus - ECPv6.15.11//NONSGML v1.0//EN
CALSCALE:GREGORIAN
METHOD:PUBLISH
X-ORIGINAL-URL:https://fachnetzwerk-gegen-antisemitismus.de
X-WR-CALDESC:Veranstaltungen für Fachnetzwerk gegen Antisemitismus
REFRESH-INTERVAL;VALUE=DURATION:PT1H
X-Robots-Tag:noindex
X-PUBLISHED-TTL:PT1H
BEGIN:VTIMEZONE
TZID:Europe/Paris
BEGIN:DAYLIGHT
TZOFFSETFROM:+0100
TZOFFSETTO:+0200
TZNAME:CEST
DTSTART:20240331T010000
END:DAYLIGHT
BEGIN:STANDARD
TZOFFSETFROM:+0200
TZOFFSETTO:+0100
TZNAME:CET
DTSTART:20241027T010000
END:STANDARD
BEGIN:DAYLIGHT
TZOFFSETFROM:+0100
TZOFFSETTO:+0200
TZNAME:CEST
DTSTART:20250330T010000
END:DAYLIGHT
BEGIN:STANDARD
TZOFFSETFROM:+0200
TZOFFSETTO:+0100
TZNAME:CET
DTSTART:20251026T010000
END:STANDARD
BEGIN:DAYLIGHT
TZOFFSETFROM:+0100
TZOFFSETTO:+0200
TZNAME:CEST
DTSTART:20260329T010000
END:DAYLIGHT
BEGIN:STANDARD
TZOFFSETFROM:+0200
TZOFFSETTO:+0100
TZNAME:CET
DTSTART:20261025T010000
END:STANDARD
END:VTIMEZONE
BEGIN:VEVENT
DTSTART;TZID=Europe/Paris:20251211T183000
DTEND;TZID=Europe/Paris:20251211T210000
DTSTAMP:20260426T044222
CREATED:20251201T130844Z
LAST-MODIFIED:20251201T130846Z
UID:10000299-1765477800-1765486800@fachnetzwerk-gegen-antisemitismus.de
SUMMARY:Zwischen Sichtbarem und Verschwundenem – Jüdische Biografien aus Leipzig erkunden
DESCRIPTION:Kursort: Volkshochschule; Raum 502 (Barrierefrei) Löhrstraße 3-7\, 04105 Leipzig \n\n\n\nWie erinnern wir an Menschen\, deren Lebenswege durch den Nationalsozialismus zerstört oder unsichtbar gemacht wurden? Und was bleibt von einem Leben\, wenn nur einzelne Fragmente überliefert sind? \n\n\n\nIn diesem Modul nähern sich die Teilnehmenden einer jüdischen Biografie aus Leipzig. Anhand von Bildern\, kurzen Texten\, Ortsbezügen und kleinen Dokumenten erschließen wir gemeinsam das Leben einer Person\, von der heute nur noch Bruchstücke erhalten sind. Im Mittelpunkt stehen dabei nicht das chronologische Nacherzählen oder historisches Faktenwissen\, sondern das kritische Lesen\, das Stellen von Fragen und das Bewusstwerden von Lücken in der Überlieferung. \n\n\n\nWir diskutieren: \n\n\n\n\nWelche Aspekte eines Lebens sind sichtbar – und welche fehlen?\n\n\n\nWie entsteht Erinnerung?\n\n\n\nUnd welche Verantwortung tragen wir heute\, wenn wir uns diesen Leerstellen nähern?\n\n\n\n\nDurch die intensive Arbeit mit einem Einzelschicksal wird nationalsozialistisches Unrecht auf lokaler Ebene erfahrbar. Die Teilnehmenden reflektieren\, wie Erinnerung gesellschaftlich geformt wird\, und entwickeln zum Abschluss eine eigene „Lückenkarte“: eine kreative\, persönliche Auseinandersetzung mit dem\, was verloren ging – und dem\, was wir heute erinnern möchten. \n\n\n\nZielgruppe:Erwachsene jeden Alters\, ohne Vorkenntnisse. Die Veranstaltung bietet einen niedrigschwelligen Einstieg über Bilder\, Orte und offene Fragen. \n\n\n\nInhalte: \n\n\n\nÜbertragung auf eigene Formen des Erinnerns heute \n\n\n\nEinblick in jüdisches Alltagsleben in Leipzig vor und während der NS-Zeit (kurz angerissen) \n\n\n\nErarbeitung einer konkreten jüdischen Biografie anhand von Bild- und Textfragmenten \n\n\n\nGemeinsame Reflexion über Leerstellen\, Auslassungen und Vergessen
URL:https://fachnetzwerk-gegen-antisemitismus.de/veranstaltung/zwischen-sichtbarem-und-verschwundenem-juedische-biografien-aus-leipzig-erkunden/
END:VEVENT
END:VCALENDAR