BEGIN:VCALENDAR
VERSION:2.0
PRODID:-//Fachnetzwerk gegen Antisemitismus - ECPv6.15.11//NONSGML v1.0//EN
CALSCALE:GREGORIAN
METHOD:PUBLISH
X-WR-CALNAME:Fachnetzwerk gegen Antisemitismus
X-ORIGINAL-URL:https://fachnetzwerk-gegen-antisemitismus.de
X-WR-CALDESC:Veranstaltungen für Fachnetzwerk gegen Antisemitismus
REFRESH-INTERVAL;VALUE=DURATION:PT1H
X-Robots-Tag:noindex
X-PUBLISHED-TTL:PT1H
BEGIN:VTIMEZONE
TZID:Europe/Paris
BEGIN:DAYLIGHT
TZOFFSETFROM:+0100
TZOFFSETTO:+0200
TZNAME:CEST
DTSTART:20240331T010000
END:DAYLIGHT
BEGIN:STANDARD
TZOFFSETFROM:+0200
TZOFFSETTO:+0100
TZNAME:CET
DTSTART:20241027T010000
END:STANDARD
BEGIN:DAYLIGHT
TZOFFSETFROM:+0100
TZOFFSETTO:+0200
TZNAME:CEST
DTSTART:20250330T010000
END:DAYLIGHT
BEGIN:STANDARD
TZOFFSETFROM:+0200
TZOFFSETTO:+0100
TZNAME:CET
DTSTART:20251026T010000
END:STANDARD
BEGIN:DAYLIGHT
TZOFFSETFROM:+0100
TZOFFSETTO:+0200
TZNAME:CEST
DTSTART:20260329T010000
END:DAYLIGHT
BEGIN:STANDARD
TZOFFSETFROM:+0200
TZOFFSETTO:+0100
TZNAME:CET
DTSTART:20261025T010000
END:STANDARD
END:VTIMEZONE
BEGIN:VEVENT
DTSTART;TZID=Europe/Paris:20250317T180000
DTEND;TZID=Europe/Paris:20250406T160000
DTSTAMP:20260425T170547
CREATED:20250313T131250Z
LAST-MODIFIED:20250313T131251Z
UID:10000246-1742234400-1743955200@fachnetzwerk-gegen-antisemitismus.de
SUMMARY:Internationale Wochen gegen Rassismus in Dresden
DESCRIPTION:Ab Montag\, 17. März 2025\, laden unter dem Motto „Menschenwürde schützen“ über 35 Veranstaltende und Kooperationspartner zu den diesjährigen Internationalen Wochen gegen Rassismus (IWgR) ein. Die IWgR setzen ein Zeichen für Menschenwürde aller in unserer Stadtgesellschaft\, für ein respektvolles und diskriminierungsfreies Miteinander und gegen alle Formen von gruppenbezogener Menschenfeindlichkeit.Den Auftakt gestalten Ehrenamtliche von rund 15 Organisationen\, Initiativen\, Projekten am Montag\, 17. März\, von 16 bis 20 Uhr in der Centrum Galerie\, Prager Straße 15\, mit. Sie stellen ihre Arbeit sowie Angebote für diese Wochen als Markt der Möglichkeiten vor.Das Programm der IWgR 2025 wird in dieser und in den nächsten Ausgaben des Dresdner Amtsblattes in Auszügen vorgestellt. Für einige Veranstaltungen ist eine Anmeldung erforderlich.
URL:https://fachnetzwerk-gegen-antisemitismus.de/veranstaltung/internationale-wochen-gegen-rassismus-in-dresden/
END:VEVENT
BEGIN:VEVENT
DTSTART;TZID=Europe/Paris:20250409T190000
DTEND;TZID=Europe/Paris:20250409T210000
DTSTAMP:20260425T170547
CREATED:20250409T072914Z
LAST-MODIFIED:20250409T073025Z
UID:10000248-1744225200-1744232400@fachnetzwerk-gegen-antisemitismus.de
SUMMARY:Podium - Was steht auf dem Spiel? Rechtsextreme Parteien in Österreich und Deutschland
DESCRIPTION:Die FPÖ könnte in Österreich erstmals den Kanzler stellen\, während die AfD in Deutschland zunehmend politische Macht gewinnt – auf kommunaler Ebene\, in Parlamenten und durch ihren wachsenden Einfluss in auf Bundesebene. In beiden Ländern werden Brandmauern eingerissen\, demokratische Freiheiten stehen unter Druck\, und rassistische Narrative prägen Politik und Gesellschaft. Die Verbindungen der rechtsextremen Terrorgruppe “Sächsische Separatisten” mit Rechtsextremen in Österreich waren und sind eng \n\n\n\nWelche Folgen hat diese Entwicklung für Demokratie und Zivilgesellschaft? Was unterscheidet die AfD und FPÖ? Welche Chancen gibt es\, demokratische Institutionen zu sichern? \n\n\n\nUnd wie kann die Zivilgesellschaft länderübergreifend voneinander lernen? \n\n\n\nEs diskutieren: \n\n\n\n\nVeronika Bohrn Mena\, gemeinnützige Bundesstiftung COMÚN (Niederösterreich)\n\n\n\nBenjamin Winkler\, Leiter des Regionalbüros Sachsen der Amadeu Antonio Stiftung\n\n\n\nModeration: Nina Böckmann\, freie Journalistin
URL:https://fachnetzwerk-gegen-antisemitismus.de/veranstaltung/podium-was-steht-auf-dem-spiel-rechtsextreme-parteien-in-oesterreich-und-deutschland/
LOCATION:die naTo (e.V.) | Soziokulturelles Zentrum – Kultur- und Kommunikationszentrum\, Karl-Liebknecht-Straße 46\, Leipzig
END:VEVENT
BEGIN:VEVENT
DTSTART;TZID=Europe/Paris:20250413T140000
DTEND;TZID=Europe/Paris:20250416T200000
DTSTAMP:20260425T170547
CREATED:20250325T131427Z
LAST-MODIFIED:20250325T131433Z
UID:10000247-1744552800-1744833600@fachnetzwerk-gegen-antisemitismus.de
SUMMARY:Von Mülsen nach Eibenstock - Erinnern an den Todesmarsch
DESCRIPTION:Vor 80 Jahren\, im April 1945\, wurden Tausende Häftlinge der nationalsozialistischen Konzentrationslager auf Todesmärsche gezwungen. Viele von ihnen fanden den Tod – auch in unserer Region. Ihr Leid und ihre Geschichten dürfen nicht vergessen werden. \n\n\n\nVom 13. bis 16. April 2025 laden wir daher zu einer Reihe von Gedenkveranstaltungen\, Tafeleinweihungen\, Vorträgen und einer Bustour entlang der historischen Route des Todesmarsches ein. Gemeinsam erinnern wir an die Opfer und setzen ein Zeichen gegen das Vergessen. \n\n\n\nNeben dem Blick in die Vergangenheit richten wir auch den Fokus auf die Zukunft: Wie können wir eine lebendige Erinnerungskultur gestalten? Welche Formen des Gedenkens sind heute wichtig? Eine Wanderausstellung\, Buchpräsentationen und Exkursionen bieten weitere Gelegenheiten zur Auseinandersetzung mit diesen Fragen. \n\n\n\n \n\n\n\nAnmeldung erforderlich an annemarie.kelpe@alter-gasometer.de oder anna.vogt@kge-erzgebirge.de bis spätestens 10.04.
URL:https://fachnetzwerk-gegen-antisemitismus.de/veranstaltung/von-muelsen-nach-eibenstock-erinnern-an-den-todesmarsch/
END:VEVENT
END:VCALENDAR