BEGIN:VCALENDAR
VERSION:2.0
PRODID:-//Fachnetzwerk gegen Antisemitismus - ECPv6.15.11//NONSGML v1.0//EN
CALSCALE:GREGORIAN
METHOD:PUBLISH
X-WR-CALNAME:Fachnetzwerk gegen Antisemitismus
X-ORIGINAL-URL:https://fachnetzwerk-gegen-antisemitismus.de
X-WR-CALDESC:Veranstaltungen für Fachnetzwerk gegen Antisemitismus
REFRESH-INTERVAL;VALUE=DURATION:PT1H
X-Robots-Tag:noindex
X-PUBLISHED-TTL:PT1H
BEGIN:VTIMEZONE
TZID:Europe/Paris
BEGIN:DAYLIGHT
TZOFFSETFROM:+0100
TZOFFSETTO:+0200
TZNAME:CEST
DTSTART:20250330T010000
END:DAYLIGHT
BEGIN:STANDARD
TZOFFSETFROM:+0200
TZOFFSETTO:+0100
TZNAME:CET
DTSTART:20251026T010000
END:STANDARD
BEGIN:DAYLIGHT
TZOFFSETFROM:+0100
TZOFFSETTO:+0200
TZNAME:CEST
DTSTART:20260329T010000
END:DAYLIGHT
BEGIN:STANDARD
TZOFFSETFROM:+0200
TZOFFSETTO:+0100
TZNAME:CET
DTSTART:20261025T010000
END:STANDARD
BEGIN:DAYLIGHT
TZOFFSETFROM:+0100
TZOFFSETTO:+0200
TZNAME:CEST
DTSTART:20270328T010000
END:DAYLIGHT
BEGIN:STANDARD
TZOFFSETFROM:+0200
TZOFFSETTO:+0100
TZNAME:CET
DTSTART:20271031T010000
END:STANDARD
END:VTIMEZONE
BEGIN:VEVENT
DTSTART;TZID=Europe/Paris:20260326T193000
DTEND;TZID=Europe/Paris:20260326T203000
DTSTAMP:20260425T214245
CREATED:20260324T134228Z
LAST-MODIFIED:20260324T134230Z
UID:10000303-1774553400-1774557000@fachnetzwerk-gegen-antisemitismus.de
SUMMARY:Drei Kantorinnen besingen die Freiheit / Kulturforum Görlitzer Synagoge
DESCRIPTION:26. März: Synagogale Musik zum Pessachfest im Kulturforum Görlitzer Synagoge \n\n\n\nGörlitz. Es sind Lieder von Freiheit und Frieden\,  Sehnsucht und Dankbarkeit. Lieder die an die Befreiung des jüdischen Volkes von der Herrschaft der ägyptischen Pharaonen erinnern. Die Kantorinnen Schulamit Lubowska und Aviv Weinberg sowie die Kantorin und Rabbinerin Alina Treigersingen diese Lieder zum jüdischen Pessach-Fest am Donnerstag\, 26. März\, im Kulturforum Görlitzer Synagoge. Es ist ein Höhepunkt im Jahr der jüdischen Kultur in Sachsen\, das in diesem Jahr unter dem Titel „Tacheles“ begangenen wird. \n\n\n\n„Dajenu – Es hätte uns genügt“ – so ist das Programm überschrieben\, das der Pianist und  Musikprofessor Jascha Nemtsov exklusiv für diesen Abend in Görlitz zusammengestellt hat. Dies ist auch der Titel eines der vier Lieder zum Seder-Mahl\,  die hier in einer modernen Bearbeitung zu erleben sind. Sie stehen im Zentrum des Konzertprogramms mit synagogaler Musik aus dem 19. und 20. Jahrhundert. Die Werke berühmter Komponisten wie Louis Lewandowski\, Max Bruch und Kurt Weil sind in dieser exklusiven Besetzung zu erleben. Einen ganz besonderen Akzent fügt Bar Zemach hinzu. Der israelische Musiker ist ein Virtuose auf dem Schofar. Aus dem Horn eines Widders gestaltet\, gilt das Schofar als eines der ältesten Instrumente der Welt. Ben Zemach vermag es\, ganze Konzert auf diesem schlichten Instrument zu spielen. \n\n\n\nJascha Nemtsov wird den Abend nicht nur am Klavier mitgestalten\, sondern auch moderieren. \n\n\n\nMit dem Pessach-Fest erinnern Juden an den Auszug aus Ägypten nach Jahrzehnten der Knechtschaft vor etwa 3500 Jahren. Es wird in diesem Jahr vom 1. bis zum 9. April gefeiert. \n\n\n\nKonzert: „Dajenu – Es hätte uns genügt“. Donnerstag\, 26. März\, 19.30 UhrKulturforum Görlitzer Synagoge\, Otto-Müller-Straße 3\, 02826  Görlitz
URL:https://fachnetzwerk-gegen-antisemitismus.de/veranstaltung/drei-kantorinnen-besingen-die-freiheit-kulturforum-goerlitzer-synagoge/
END:VEVENT
END:VCALENDAR