BEGIN:VCALENDAR
VERSION:2.0
PRODID:-//Fachnetzwerk gegen Antisemitismus - ECPv6.15.11//NONSGML v1.0//EN
CALSCALE:GREGORIAN
METHOD:PUBLISH
X-ORIGINAL-URL:https://fachnetzwerk-gegen-antisemitismus.de
X-WR-CALDESC:Veranstaltungen für Fachnetzwerk gegen Antisemitismus
REFRESH-INTERVAL;VALUE=DURATION:PT1H
X-Robots-Tag:noindex
X-PUBLISHED-TTL:PT1H
BEGIN:VTIMEZONE
TZID:Europe/Paris
BEGIN:DAYLIGHT
TZOFFSETFROM:+0100
TZOFFSETTO:+0200
TZNAME:CEST
DTSTART:20240331T010000
END:DAYLIGHT
BEGIN:STANDARD
TZOFFSETFROM:+0200
TZOFFSETTO:+0100
TZNAME:CET
DTSTART:20241027T010000
END:STANDARD
BEGIN:DAYLIGHT
TZOFFSETFROM:+0100
TZOFFSETTO:+0200
TZNAME:CEST
DTSTART:20250330T010000
END:DAYLIGHT
BEGIN:STANDARD
TZOFFSETFROM:+0200
TZOFFSETTO:+0100
TZNAME:CET
DTSTART:20251026T010000
END:STANDARD
BEGIN:DAYLIGHT
TZOFFSETFROM:+0100
TZOFFSETTO:+0200
TZNAME:CEST
DTSTART:20260329T010000
END:DAYLIGHT
BEGIN:STANDARD
TZOFFSETFROM:+0200
TZOFFSETTO:+0100
TZNAME:CET
DTSTART:20261025T010000
END:STANDARD
END:VTIMEZONE
BEGIN:VEVENT
DTSTART;TZID=Europe/Paris:20251124T093000
DTEND;TZID=Europe/Paris:20251124T160000
DTSTAMP:20260426T044051
CREATED:20251015T103329Z
LAST-MODIFIED:20251015T103331Z
UID:10000295-1763976600-1764000000@fachnetzwerk-gegen-antisemitismus.de
SUMMARY:»Geteilte Geschichten – Jüdische und migrantische Perspektiven auf die Wiedervereinigung und die Zeit danach«
DESCRIPTION:Vernetzungstreffen für Multiplikator*innen der historisch-politischen Bildungsarbeit  \n\n\n\nOrt: Hygienemuseum Dresden \n\n\n\nIm Rahmen des Vernetzungstreffens möchten wir die Vielfalt der Geschichten zur Wendezeit 1989/90 bis in die Gegenwart in den Fokus rücken. Multiplikator*innen der historisch-politischen Bildungsarbeit sollen die Möglichkeit haben\, sich miteinander zu vernetzen und Impulse für die eigene Praxis mitzunehmen. Im Einladungsflyer im Anhang finden Sie weitere Informationen zur Veranstaltung sowie das geplante Programm.Es gibt ein begrenztes Kontingent an Übernachtungen.Die Reisekosten tragen die Teilnehmenden selbst\, eine Teilnahmegebühr entfällt.Bitte beachten: Bei Nichtanreise sind die Hotelkosten selbst zu tragen. \n\n\n\nEine verbindliche Anmeldung ist ab sofort über das Online-Anmelde-Formular über folgenden Link möglich: https://www.annefrank.de/bildungsarbeit/fortbildungen/anmeldung-geteilte-geschichten (Link auch im Einladungs-Flyer). Die Anmeldung endet am 22.10.2025.
URL:https://fachnetzwerk-gegen-antisemitismus.de/veranstaltung/geteilte-geschichten-juedische-und-migrantische-perspektiven-auf-die-wiedervereinigung-und-die-zeit-danach/
END:VEVENT
END:VCALENDAR