BEGIN:VCALENDAR
VERSION:2.0
PRODID:-//Fachnetzwerk gegen Antisemitismus - ECPv6.15.11//NONSGML v1.0//EN
CALSCALE:GREGORIAN
METHOD:PUBLISH
X-WR-CALNAME:Fachnetzwerk gegen Antisemitismus
X-ORIGINAL-URL:https://fachnetzwerk-gegen-antisemitismus.de
X-WR-CALDESC:Veranstaltungen für Fachnetzwerk gegen Antisemitismus
REFRESH-INTERVAL;VALUE=DURATION:PT1H
X-Robots-Tag:noindex
X-PUBLISHED-TTL:PT1H
BEGIN:VTIMEZONE
TZID:Europe/Paris
BEGIN:DAYLIGHT
TZOFFSETFROM:+0100
TZOFFSETTO:+0200
TZNAME:CEST
DTSTART:20240331T010000
END:DAYLIGHT
BEGIN:STANDARD
TZOFFSETFROM:+0200
TZOFFSETTO:+0100
TZNAME:CET
DTSTART:20241027T010000
END:STANDARD
BEGIN:DAYLIGHT
TZOFFSETFROM:+0100
TZOFFSETTO:+0200
TZNAME:CEST
DTSTART:20250330T010000
END:DAYLIGHT
BEGIN:STANDARD
TZOFFSETFROM:+0200
TZOFFSETTO:+0100
TZNAME:CET
DTSTART:20251026T010000
END:STANDARD
BEGIN:DAYLIGHT
TZOFFSETFROM:+0100
TZOFFSETTO:+0200
TZNAME:CEST
DTSTART:20260329T010000
END:DAYLIGHT
BEGIN:STANDARD
TZOFFSETFROM:+0200
TZOFFSETTO:+0100
TZNAME:CET
DTSTART:20261025T010000
END:STANDARD
END:VTIMEZONE
BEGIN:VEVENT
DTSTART;TZID=Europe/Paris:20251007T080000
DTEND;TZID=Europe/Paris:20251109T170000
DTSTAMP:20260426T043906
CREATED:20250605T083745Z
LAST-MODIFIED:20250605T083747Z
UID:10000253-1759824000-1762707600@fachnetzwerk-gegen-antisemitismus.de
SUMMARY:Amadeu Antonio Stiftung | 22. Bildungs- und Aktionswochen gegen Antisemitismus vom 7. Oktober bis 9. November 2025 | Thema "Engagement"
DESCRIPTION:Die 22. Bildungs- und Aktionswochen gegen Antisemitismus finden vom 7. Oktober bis 9. November 2025 statt. Wir laden euch herzlich ein\, eigene Veranstaltungen zu organisieren und Teil der Aktionswochen zu werden! Im Mittelpunkt steht das Thema „Engagement“. Denn wir wollen Menschen mit den Aktionswochen ermutigen\, sich gegen Antisemitismus zu engagieren. Alle Infos samt Antragsformular gibt’s auf der Website der Amadeu Antonio Stiftung. 
URL:https://fachnetzwerk-gegen-antisemitismus.de/veranstaltung/amadeu-antonio-stiftung-22-bildungs-und-aktionswochen-gegen-antisemitismus-vom-7-oktober-bis-9-november-2025-thema-engagement/
END:VEVENT
BEGIN:VEVENT
DTSTART;TZID=Europe/Paris:20251105T080000
DTEND;TZID=Europe/Paris:20251105T170000
DTSTAMP:20260426T043906
CREATED:20250731T103735Z
LAST-MODIFIED:20250731T103737Z
UID:10000276-1762329600-1762362000@fachnetzwerk-gegen-antisemitismus.de
SUMMARY:Partnerkonferenz der SLpB zum Thema "Politische Bildung im europäischen Kontext in Zeiten politischer Instabilität und Umbrüche" Chemnitz
DESCRIPTION:Die Partnerkonferenz ist das große jährliche Treffen der politischen Bildung in Sachsen. Ziel der diesjährigen Konferenz ist der gemeinsame Austausch und die Vernetzung unterschiedlicher Akteure der politischen Bildung in Europa\, die vor dem Hintergrund globaler Entwicklungen vor ähnlichen Herausforderungen in der Stärkung und Erhaltung der Demokratie stehen. Schwerpunkte in diesem Jahr: \n\n\n\n\nWas sind die Herausforderungen der politischen Bildung in den einzelnen europäischen Ländern\, vor dem Hintergrund der jeweiligen strukturellen und inhaltlichen Ausrichtung? Wie am 3. April 2025 am Hamilton College Barack Obama sagte: „Das wichtigste Amt in dieser Demokratie ist der Bürger.“\, wollen wir uns die Frage stellen: Wie gelingt es in der politischen Bildung dieses Amt zu stärken?\n\n\n\n\n\nWie können wir Synergien nutzen und kooperieren?\n\n\n\n\n\nWelche Ideen und Konzepte gibt es für eine wirkungsvolle politische Bildung?
URL:https://fachnetzwerk-gegen-antisemitismus.de/veranstaltung/partnerkonferenz-der-slpb-zum-thema-politische-bildung-im-europaeischen-kontext-in-zeiten-politischer-instabilitaet-und-umbrueche-chemnitz/
END:VEVENT
BEGIN:VEVENT
DTSTART;TZID=Europe/Paris:20251105T090000
DTEND;TZID=Europe/Paris:20251106T180000
DTSTAMP:20260426T043906
CREATED:20250619T085653Z
LAST-MODIFIED:20250619T085700Z
UID:10000255-1762333200-1762452000@fachnetzwerk-gegen-antisemitismus.de
SUMMARY:„Politische Bildung im europäischen Kontext in Zeiten politischer Instabilität und Umbrüche“
DESCRIPTION:Partnerkonferenz der Sächsischen Landeszentrale für politische Bildung zum Thema: „Politische Bildung im europäischen Kontext in Zeiten politischer Instabilität und Umbrüche“ \n\n\n\n \n\n\n\nam 5. November 2025 \n\n\n\nim Carlowitz Congresscenter in der Europäischen Kulturhauptstadt Chemnitz. \n\n\n\nDie Partnerkonferenz ist das große jährliche Treffen der politischen Bildung in Sachsen. \n\n\n\nZiel der diesjährigen Konferenz ist der gemeinsame Austausch und die Vernetzung unterschiedlicher Akteure der politischen Bildung in Europa\, die vor dem Hintergrund globaler Entwicklungen vor ähnlichen Herausforderungen in der Stärkung und Erhaltung der Demokratie stehen. \n\n\n\nWir möchten in der Tagung insbesondere zu folgenden Fragen in den Austausch kommen: \n\n\n\n•   Was sind die Herausforderungen der politischen Bildung in den einzelnen europäischen Ländern\, vor dem Hintergrund der jeweiligen strukturellen und inhaltlichen Ausrichtung? Wie am 3. April 2025 am Hamilton College Barack Obama sagte: „Das wichtigste Amt in dieser Demokratie ist der Bürger.“\, wollen wir uns die Frage stellen: Wie gelingt es in der politischen Bildung dieses Amt zu stärken? \n\n\n\n•   Welche Ideen und Konzepte gibt es für eine wirkungsvolle politische Bildung? \n\n\n\n•   Wie können wir Synergien nutzen und kooperieren? \n\n\n\nWir werden Ihnen nach der Sommerpause den Programmentwurf zusammen mit der Anmeldung und Informationen zusenden. \n\n\n\nTagungssprachen sind Deutsch und Englisch. Simultane Verdolmetschung wird bereitgestellt. \n\n\n\nDie Partnerkonferenz findet in diesem Jahr in Verbindung mit unserer Trinationalen Vernetzungstagung von Akteuren der (europa-)politischen Bildung aus Sachsen\, Tschechien und Polen statt. Diese beginnt direkt im Anschluss an die Partnerkonferenz am selben Ort und dauert bis zum Nachmittag des 6. November. Es ist also auch für Sie eine gute Gelegenheit\, Ihre Netzwerke in diesen Nachbarländern Sachsens zu stärken. Die Einladung für die Trinationale Vernetzungstagung und mehr Informationen folgen.
URL:https://fachnetzwerk-gegen-antisemitismus.de/veranstaltung/politische-bildung-im-europaeischen-kontext-in-zeiten-politischer-instabilitaet-und-umbrueche/
END:VEVENT
END:VCALENDAR