BEGIN:VCALENDAR
VERSION:2.0
PRODID:-//Fachnetzwerk gegen Antisemitismus - ECPv6.15.11//NONSGML v1.0//EN
CALSCALE:GREGORIAN
METHOD:PUBLISH
X-WR-CALNAME:Fachnetzwerk gegen Antisemitismus
X-ORIGINAL-URL:https://fachnetzwerk-gegen-antisemitismus.de
X-WR-CALDESC:Veranstaltungen für Fachnetzwerk gegen Antisemitismus
REFRESH-INTERVAL;VALUE=DURATION:PT1H
X-Robots-Tag:noindex
X-PUBLISHED-TTL:PT1H
BEGIN:VTIMEZONE
TZID:Europe/Paris
BEGIN:DAYLIGHT
TZOFFSETFROM:+0100
TZOFFSETTO:+0200
TZNAME:CEST
DTSTART:20240331T010000
END:DAYLIGHT
BEGIN:STANDARD
TZOFFSETFROM:+0200
TZOFFSETTO:+0100
TZNAME:CET
DTSTART:20241027T010000
END:STANDARD
BEGIN:DAYLIGHT
TZOFFSETFROM:+0100
TZOFFSETTO:+0200
TZNAME:CEST
DTSTART:20250330T010000
END:DAYLIGHT
BEGIN:STANDARD
TZOFFSETFROM:+0200
TZOFFSETTO:+0100
TZNAME:CET
DTSTART:20251026T010000
END:STANDARD
BEGIN:DAYLIGHT
TZOFFSETFROM:+0100
TZOFFSETTO:+0200
TZNAME:CEST
DTSTART:20260329T010000
END:DAYLIGHT
BEGIN:STANDARD
TZOFFSETFROM:+0200
TZOFFSETTO:+0100
TZNAME:CET
DTSTART:20261025T010000
END:STANDARD
END:VTIMEZONE
BEGIN:VEVENT
DTSTART;TZID=Europe/Paris:20251007T080000
DTEND;TZID=Europe/Paris:20251109T170000
DTSTAMP:20260426T020620
CREATED:20250605T083745Z
LAST-MODIFIED:20250605T083747Z
UID:10000253-1759824000-1762707600@fachnetzwerk-gegen-antisemitismus.de
SUMMARY:Amadeu Antonio Stiftung | 22. Bildungs- und Aktionswochen gegen Antisemitismus vom 7. Oktober bis 9. November 2025 | Thema "Engagement"
DESCRIPTION:Die 22. Bildungs- und Aktionswochen gegen Antisemitismus finden vom 7. Oktober bis 9. November 2025 statt. Wir laden euch herzlich ein\, eigene Veranstaltungen zu organisieren und Teil der Aktionswochen zu werden! Im Mittelpunkt steht das Thema „Engagement“. Denn wir wollen Menschen mit den Aktionswochen ermutigen\, sich gegen Antisemitismus zu engagieren. Alle Infos samt Antragsformular gibt’s auf der Website der Amadeu Antonio Stiftung. 
URL:https://fachnetzwerk-gegen-antisemitismus.de/veranstaltung/amadeu-antonio-stiftung-22-bildungs-und-aktionswochen-gegen-antisemitismus-vom-7-oktober-bis-9-november-2025-thema-engagement/
END:VEVENT
BEGIN:VEVENT
DTSTART;TZID=Europe/Paris:20251020T080000
DTEND;TZID=Europe/Paris:20251021T170000
DTSTAMP:20260426T020620
CREATED:20250811T074809Z
LAST-MODIFIED:20250811T074908Z
UID:10000279-1760947200-1761066000@fachnetzwerk-gegen-antisemitismus.de
SUMMARY:Fachtag: Begegnungsformate zwischen Empowerment\, Antisemitismusprävention und Reproduktion
DESCRIPTION:Liebe Kolleginnen und Kollegen in der antisemitismuskritischen Bildungsarbeit\, \n\n\n\nseit 2020 hat das Begegnungsprojekt „Meet a Jew“ des Zentralrats der Juden in Deutschland in rund 3.500 Begegnungen fast 80.000 Menschen erreicht. Und daneben gibt es zahlreiche andere große und kleine Initiativen\, die Begegnungen als Teil antisemitismuskritischer Bildungsarbeit durchführen. \n\n\n\nHöchste Zeit für einen Erfahrungsaustausch! \n\n\n\nDie Bundeszentrale für politische Bildung lädt gemeinsam mit dem Zentralrat der Juden in Deutschland Fachkräfte\, die Begegnungsprojekte als Teil antisemitismuskritischer Bildung im schulischen oder außerschulischen Bereich gestalten\, zu einem Fachtag ein: \n\n\n\n20. bis 21. Oktober 2025 – München \n\n\n\nZwischen Empowerment\, Antisemitismusprävention und Reproduktion \n\n\n\nBegegnungsformate in der antisemitismuskritischen Bildungsarbeit \n\n\n\nDer Fachtag lädt dazu ein\, gemeinsam Routinen zu hinterfragen\, neue Ideen zu erproben und Begegnung als echten Dialog auf Augenhöhe zu denken. Er bietet Inspiration\, Austausch und Praxisimpulse für alle\, die Begegnungen als lebendiges und verantwortungsvolles Lernformat umsetzen und weiterentwickeln wollen. \n\n\n\nMelden Sie sich jetzt an!
URL:https://fachnetzwerk-gegen-antisemitismus.de/veranstaltung/fachtag-begegnungsformate-zwischen-empowerment-antisemitismuspraevention-und-reproduktion/
END:VEVENT
BEGIN:VEVENT
DTSTART;TZID=Europe/Paris:20251021T180000
DTEND;TZID=Europe/Paris:20251021T203000
DTSTAMP:20260426T020620
CREATED:20250901T114723Z
LAST-MODIFIED:20250901T114725Z
UID:10000286-1761069600-1761078600@fachnetzwerk-gegen-antisemitismus.de
SUMMARY:TolSax-Konkret. Zwischen Jugendkultur & rechter Ideologie? – Analyse und Gespräch über rechtsextreme Jugendliche
DESCRIPTION:Wir analysieren\, warum rechte Jugendgruppen in Sachsen wachsen – mit Blick auf  gesellschaftliche und politische Ursachen. Gemeinsam tauschen wir uns aus\, wie Zivilgesellschaft darauf reagieren und demokratisches Engagement stärken kann. \n\n\n\nZielgruppeHerzlich eingeladen sind alle in Sachsen ehrenamtlich und hauptamtlich Engagierten\, die sich für demokratische Kultur und vielfältige Lebensweisen einsetzen. Die Veranstaltung ist kostenfrei und findet digital statt. \n\n\n\nAnmeldungDigitale Veranstaltung. Am 15.09.2025 folgen weitere Informationen zum Ablauf\, den Referent_innen und zur Anmeldung auf unserer Website.  \n\n\n\nAntidiskriminierungsregelDie Veranstaltenden behalten sich vor\, von ihrem Hausrecht Gebrauch zu machen und Personen\, die rechtsextremen Parteien oder Organisationen angehören\, der rechtsextremen Szene zuzuordnen sind oder bereits in der Vergangenheit durch rassistische\, nationalistische\, antisemitische oder sonstige menschenverachtende Äußerungen in Erscheinung getreten sind\, den Zutritt zur Veranstaltung zu verwehren oder von dieser auszuschließen. Veranstalter ist das Netzwerk Tolerantes Sachsen\, vertreten durch die Sprecher_innen-Gruppe.  \n\n\n\nMehr Informationen
URL:https://fachnetzwerk-gegen-antisemitismus.de/veranstaltung/tolsax-konkret-zwischen-jugendkultur-rechter-ideologie-analyse-und-gespraech-ueber-rechtsextreme-jugendliche/
END:VEVENT
END:VCALENDAR