BEGIN:VCALENDAR
VERSION:2.0
PRODID:-//Fachnetzwerk gegen Antisemitismus - ECPv6.15.11//NONSGML v1.0//EN
CALSCALE:GREGORIAN
METHOD:PUBLISH
X-ORIGINAL-URL:https://fachnetzwerk-gegen-antisemitismus.de
X-WR-CALDESC:Veranstaltungen für Fachnetzwerk gegen Antisemitismus
REFRESH-INTERVAL;VALUE=DURATION:PT1H
X-Robots-Tag:noindex
X-PUBLISHED-TTL:PT1H
BEGIN:VTIMEZONE
TZID:Europe/Paris
BEGIN:DAYLIGHT
TZOFFSETFROM:+0100
TZOFFSETTO:+0200
TZNAME:CEST
DTSTART:20240331T010000
END:DAYLIGHT
BEGIN:STANDARD
TZOFFSETFROM:+0200
TZOFFSETTO:+0100
TZNAME:CET
DTSTART:20241027T010000
END:STANDARD
BEGIN:DAYLIGHT
TZOFFSETFROM:+0100
TZOFFSETTO:+0200
TZNAME:CEST
DTSTART:20250330T010000
END:DAYLIGHT
BEGIN:STANDARD
TZOFFSETFROM:+0200
TZOFFSETTO:+0100
TZNAME:CET
DTSTART:20251026T010000
END:STANDARD
BEGIN:DAYLIGHT
TZOFFSETFROM:+0100
TZOFFSETTO:+0200
TZNAME:CEST
DTSTART:20260329T010000
END:DAYLIGHT
BEGIN:STANDARD
TZOFFSETFROM:+0200
TZOFFSETTO:+0100
TZNAME:CET
DTSTART:20261025T010000
END:STANDARD
END:VTIMEZONE
BEGIN:VEVENT
DTSTART;TZID=Europe/Paris:20250830T180000
DTEND;TZID=Europe/Paris:20250830T220000
DTSTAMP:20260425T233737
CREATED:20250821T080820Z
LAST-MODIFIED:20250821T080822Z
UID:10000283-1756576800-1756591200@fachnetzwerk-gegen-antisemitismus.de
SUMMARY:Lange Nacht der Museen – Creative Love!
DESCRIPTION:Willkommen zu Creative Love! Zur Langen Nacht der Museen 2025 verwandelt sich der Glashof des Museums in einen Marktplatz: Im Kontext der Ausstellung Widerstände. Jüdische Designerinnen in der Moderne lädt das JMB in Berlin lebende Kunsthandwerkerinnen ein\, ihr Werk vorzustellen – vom jüdischen Puppentheater bis zur Goldschmiede\, von Industriedesign bis zur Buchillustration. \n\n\n\nAußerdem stellen wir in Kurzführungen durch die Ausstellung verschiedene Aspekte zum Thema Liebe vor. Jüdische Designerinnen zeigen in ihren künstlerischen Werken ihre Leidenschaft – für den Beruf\, für Demokratie und Freiheit\, für die Freundschaft\, für die Liebe jenseits der Geschlechtergrenzen oder einfach: zum Leben. \n\n\n\nLate Night Special *Maskenball*\, ab 23 Uhrmit kreativer Maskengestaltung von 21–23 Uhr \n\n\n\nDie Designerin Sarah Settgast und die Kostümbildnerin Kelly Zehe führen als kreatives Duo durch das Late Night Special – von der Gestaltung der Masken bis zum Maskenball! Ab 21 Uhr bieten sie Besucher*innen die Möglichkeit\, eigene Masken zu gestalten\, mit Federn\, Perlen und Glitzer. Ab 23 Uhr startet das rauschende Fest\, begleitet von den elektronischen Beats der israelischen DJanes Balagan Sisters. \n\n\n\nEine Gemeinschaftsveranstaltung der Berliner Museen und der Kulturprojekte Berlin GmbH
URL:https://fachnetzwerk-gegen-antisemitismus.de/veranstaltung/lange-nacht-der-museen-creative-love/
END:VEVENT
END:VCALENDAR