BEGIN:VCALENDAR
VERSION:2.0
PRODID:-//Fachnetzwerk gegen Antisemitismus - ECPv6.15.11//NONSGML v1.0//EN
CALSCALE:GREGORIAN
METHOD:PUBLISH
X-ORIGINAL-URL:https://fachnetzwerk-gegen-antisemitismus.de
X-WR-CALDESC:Veranstaltungen für Fachnetzwerk gegen Antisemitismus
REFRESH-INTERVAL;VALUE=DURATION:PT1H
X-Robots-Tag:noindex
X-PUBLISHED-TTL:PT1H
BEGIN:VTIMEZONE
TZID:Europe/Paris
BEGIN:DAYLIGHT
TZOFFSETFROM:+0100
TZOFFSETTO:+0200
TZNAME:CEST
DTSTART:20240331T010000
END:DAYLIGHT
BEGIN:STANDARD
TZOFFSETFROM:+0200
TZOFFSETTO:+0100
TZNAME:CET
DTSTART:20241027T010000
END:STANDARD
BEGIN:DAYLIGHT
TZOFFSETFROM:+0100
TZOFFSETTO:+0200
TZNAME:CEST
DTSTART:20250330T010000
END:DAYLIGHT
BEGIN:STANDARD
TZOFFSETFROM:+0200
TZOFFSETTO:+0100
TZNAME:CET
DTSTART:20251026T010000
END:STANDARD
BEGIN:DAYLIGHT
TZOFFSETFROM:+0100
TZOFFSETTO:+0200
TZNAME:CEST
DTSTART:20260329T010000
END:DAYLIGHT
BEGIN:STANDARD
TZOFFSETFROM:+0200
TZOFFSETTO:+0100
TZNAME:CET
DTSTART:20261025T010000
END:STANDARD
END:VTIMEZONE
BEGIN:VEVENT
DTSTART;TZID=Europe/Paris:20250821T180000
DTEND;TZID=Europe/Paris:20250821T210000
DTSTAMP:20260425T233817
CREATED:20250820T074605Z
LAST-MODIFIED:20250820T074607Z
UID:10000281-1755799200-1755810000@fachnetzwerk-gegen-antisemitismus.de
SUMMARY:„trust & resistance“ – Ein Konzert mit Cello solo im Zeichen der Demokratiemit der Cellistin Katja Zakotnik
DESCRIPTION:Donnerstag\, 21. August 2025\, 19:00 UhrOrt: Gohliser Schlösschen\, Sommersaal\, Menckestraße 23\, Leipzig \n\n\n\nKatja Zakotnik widmet diesen Abend Komponist*innen\, die unter Diktaturen verfolgt wurden oder noch heute Widerstand mit Musik verbinden. Ihre Werke erzählen von Hoffnung\, Mut und innerer Stärke – von „Wiegala“ der im KZ ermordeten Ilse Weber bis zu zeitgenössischen Stücken\, die Resilienz und Vertrauen spürbar machen. Durch ihre Moderation führt die Musikerin eindrucksvoll in die Hintergründe der Kompositionen ein. \n\n\n\nDer Eintritt ist frei\, um Spenden wird gebeten. Eine Platzreservierung ist online über die Seite des Gohliser Schlösschens möglich:https://gohliserschloesschen.de/events/trust-resistance
URL:https://fachnetzwerk-gegen-antisemitismus.de/veranstaltung/trust-resistance-ein-konzert-mit-cello-solo-im-zeichen-der-demokratiemit-der-cellistin-katja-zakotnik/
END:VEVENT
END:VCALENDAR