BEGIN:VCALENDAR
VERSION:2.0
PRODID:-//Fachnetzwerk gegen Antisemitismus - ECPv6.15.11//NONSGML v1.0//EN
CALSCALE:GREGORIAN
METHOD:PUBLISH
X-WR-CALNAME:Fachnetzwerk gegen Antisemitismus
X-ORIGINAL-URL:https://fachnetzwerk-gegen-antisemitismus.de
X-WR-CALDESC:Veranstaltungen für Fachnetzwerk gegen Antisemitismus
REFRESH-INTERVAL;VALUE=DURATION:PT1H
X-Robots-Tag:noindex
X-PUBLISHED-TTL:PT1H
BEGIN:VTIMEZONE
TZID:Europe/Paris
BEGIN:DAYLIGHT
TZOFFSETFROM:+0100
TZOFFSETTO:+0200
TZNAME:CEST
DTSTART:20240331T010000
END:DAYLIGHT
BEGIN:STANDARD
TZOFFSETFROM:+0200
TZOFFSETTO:+0100
TZNAME:CET
DTSTART:20241027T010000
END:STANDARD
BEGIN:DAYLIGHT
TZOFFSETFROM:+0100
TZOFFSETTO:+0200
TZNAME:CEST
DTSTART:20250330T010000
END:DAYLIGHT
BEGIN:STANDARD
TZOFFSETFROM:+0200
TZOFFSETTO:+0100
TZNAME:CET
DTSTART:20251026T010000
END:STANDARD
BEGIN:DAYLIGHT
TZOFFSETFROM:+0100
TZOFFSETTO:+0200
TZNAME:CEST
DTSTART:20260329T010000
END:DAYLIGHT
BEGIN:STANDARD
TZOFFSETFROM:+0200
TZOFFSETTO:+0100
TZNAME:CET
DTSTART:20261025T010000
END:STANDARD
END:VTIMEZONE
BEGIN:VEVENT
DTSTART;TZID=Europe/Paris:20250730T080000
DTEND;TZID=Europe/Paris:20250804T170000
DTSTAMP:20260425T233528
CREATED:20250605T082829Z
LAST-MODIFIED:20250605T082834Z
UID:10000251-1753862400-1754326800@fachnetzwerk-gegen-antisemitismus.de
SUMMARY:Auf den Spuren des Todesmarschs Mülsen - Eibenstock - Litoměřice  – Projekt DenkMal!
DESCRIPTION:Im Rahmen unseres Jugendgeschichtsprojekts DenkMal! begeben wir uns diesen Sommer auf eine besondere Tour per Fahrrad und Bahn: Gemeinsam erkunden wir die Strecke des Mülsener Todesmarschs\, der im April 1945 durch das Erzgebirge führte. \n\n\n\nVor 80 Jahren wurden KZ-Häftlinge aus den umliegenden Außenlagern auf brutale Märsche Richtung Süden gezwungen – mitten durch Orte\, in denen wir heute leben. \n\n\n\nUnsere Etappen führen uns von Mülsen über Schneeberg\, weiter nach Muldenberg\, Schöneck\, Chomutov\, Žatec und Ustí nad Labem bis zur Gedenkstätte Terezín (Theresienstadt) und dem ehemaligen KZ-Außenlager Litoměřice.Unterwegs halten wir an ehemaligen Bahnstationen\, Gräbern und Gedenkorten. Wir halten inne\, dokumentieren Spuren und lernen Geschichten kennen\, die oft vergessen sind – und halten unsere Eindrücke in Bildern\, Texten oder Audio fest. \n\n\n\nNach der Reise treffen wir uns erneut zur Nachbereitung und Finalisierung der Projektergebnisse sowie zur Entwicklung eines geeigneten Formats zur Präsentation. Präsentation: 27./28. November bei den Sächsischen Jugendgeschichtstagen in Dresden. \n\n\n\nRahmeninfos zur Tour: \n\n\n\nFahrradkilometer:– Erste 2 Tage: ca. 90 km mit bis zu 800 Höhenmetern– Danach per Zug & kleinere Touren: nochmal ca. 50 km \n\n\n\nDu benötigst:– Personalausweis oder Reisepass– Verkehrstüchtiges & tourentaugliches Fahrrad– grundlegende Outdoor-Ausrüstung (Schlafsack\, Geschirr\, idealerweise Fahrradtaschen) \n\n\n\n\n\n\n\nFür wen? Jugendliche zwischen 15 und 20 Jahren \n\n\n\n Was solltest du mitbringen? Interesse an Geschichte\, Gedenken & kreativen Projekten \n\n\n\n Teilnahmebeitrag: 50 € (inkl. Übernachtung in Jugendherbergen\, volle Verpflegung & Programm) \n\n\n\n Du willst mitkommen\, kannst aber nicht Fahrrad fahren oder brauchst Unterstützung? \n\n\n\nMelde dich einfach bei uns – wir finden eine Lösung! \n\n\n\nAnmeldefrist: 01.07. \n\n\n\nAnmeldung: https://altergasometer.feripro.de/anmeldung/5/veranstaltungen \n\n\n\n Infoabend: 17.06.\, 18 Uhr (online)Anmeldung unter: anna.vogt@kge-erzgebirge.de  | annemarie.kelpe@alter-gasometer.de
URL:https://fachnetzwerk-gegen-antisemitismus.de/veranstaltung/auf-den-spuren-des-todesmarschs-muelsen-eibenstock-litomerice-projekt-denkmal/
END:VEVENT
END:VCALENDAR