BEGIN:VCALENDAR
VERSION:2.0
PRODID:-//Fachnetzwerk gegen Antisemitismus - ECPv6.15.11//NONSGML v1.0//EN
CALSCALE:GREGORIAN
METHOD:PUBLISH
X-ORIGINAL-URL:https://fachnetzwerk-gegen-antisemitismus.de
X-WR-CALDESC:Veranstaltungen für Fachnetzwerk gegen Antisemitismus
REFRESH-INTERVAL;VALUE=DURATION:PT1H
X-Robots-Tag:noindex
X-PUBLISHED-TTL:PT1H
BEGIN:VTIMEZONE
TZID:Europe/Paris
BEGIN:DAYLIGHT
TZOFFSETFROM:+0100
TZOFFSETTO:+0200
TZNAME:CEST
DTSTART:20240331T010000
END:DAYLIGHT
BEGIN:STANDARD
TZOFFSETFROM:+0200
TZOFFSETTO:+0100
TZNAME:CET
DTSTART:20241027T010000
END:STANDARD
BEGIN:DAYLIGHT
TZOFFSETFROM:+0100
TZOFFSETTO:+0200
TZNAME:CEST
DTSTART:20250330T010000
END:DAYLIGHT
BEGIN:STANDARD
TZOFFSETFROM:+0200
TZOFFSETTO:+0100
TZNAME:CET
DTSTART:20251026T010000
END:STANDARD
BEGIN:DAYLIGHT
TZOFFSETFROM:+0100
TZOFFSETTO:+0200
TZNAME:CEST
DTSTART:20260329T010000
END:DAYLIGHT
BEGIN:STANDARD
TZOFFSETFROM:+0200
TZOFFSETTO:+0100
TZNAME:CET
DTSTART:20261025T010000
END:STANDARD
END:VTIMEZONE
BEGIN:VEVENT
DTSTART;TZID=Europe/Paris:20250724T080000
DTEND;TZID=Europe/Paris:20250724T170000
DTSTAMP:20260425T234652
CREATED:20250724T115418Z
LAST-MODIFIED:20250724T115423Z
UID:10000274-1753344000-1753376400@fachnetzwerk-gegen-antisemitismus.de
SUMMARY:Buchvorstellung: Gedenken neu denken von Susanne Siegert
DESCRIPTION:Buchvorstellung \n\n\n\nSusanne SiegertGedenken neu denken \n\n\n\nErinnerungskultur\, aber anders \n\n\n\nUnsere Erinnerungskultur muss sich verändern. Wie und warum\, legt Susanne Siegert in diesem Buch dar. Sie plädiert für eine pluralistische\, neue Gedenkarbeit mit einem Schwerpunkt auf der Verantwortung der Nachfahren der Tätergeneration anstelle unserer „einstudierten“ gemeinsamen Rückschau mit den Opfern. Es geht um weniger bekannte NS-Verbrechen\, um weniger bekannte Orte\, um bisher vernachlässigte Opfergruppen. Gleichzeitig zeigt dieses Buch\, wie wichtig eine aktivere\, vielfältigere Gedenkkultur ist\, um künftige Generationen auch ohne direkte Zeitzeugenberichte zu erreichen.  \n\n\n\nSusanne Siegert\, geboren 1992\, klärt auf Instagram und TikTok über den Holocaust auf. Ihr folgen knapp 300.000 Menschen über alle Plattformen hinweg. Für ihre Aufklärungsarbeit wurde sie 2024 mit dem ELNET Preis und dem Grimme-Online-Award ausgezeichnet. \n\n\n\n————————Einlass: 19:00\, Beginn: 20:00 Uhr\, Halle D\, WERK II Leipzig
URL:https://fachnetzwerk-gegen-antisemitismus.de/veranstaltung/buchvorstellung-gedenken-neu-denken-von-susanne-siegert/
END:VEVENT
END:VCALENDAR