BEGIN:VCALENDAR
VERSION:2.0
PRODID:-//Fachnetzwerk gegen Antisemitismus - ECPv6.15.11//NONSGML v1.0//EN
CALSCALE:GREGORIAN
METHOD:PUBLISH
X-ORIGINAL-URL:https://fachnetzwerk-gegen-antisemitismus.de
X-WR-CALDESC:Veranstaltungen für Fachnetzwerk gegen Antisemitismus
REFRESH-INTERVAL;VALUE=DURATION:PT1H
X-Robots-Tag:noindex
X-PUBLISHED-TTL:PT1H
BEGIN:VTIMEZONE
TZID:Europe/Paris
BEGIN:DAYLIGHT
TZOFFSETFROM:+0100
TZOFFSETTO:+0200
TZNAME:CEST
DTSTART:20240331T010000
END:DAYLIGHT
BEGIN:STANDARD
TZOFFSETFROM:+0200
TZOFFSETTO:+0100
TZNAME:CET
DTSTART:20241027T010000
END:STANDARD
BEGIN:DAYLIGHT
TZOFFSETFROM:+0100
TZOFFSETTO:+0200
TZNAME:CEST
DTSTART:20250330T010000
END:DAYLIGHT
BEGIN:STANDARD
TZOFFSETFROM:+0200
TZOFFSETTO:+0100
TZNAME:CET
DTSTART:20251026T010000
END:STANDARD
BEGIN:DAYLIGHT
TZOFFSETFROM:+0100
TZOFFSETTO:+0200
TZNAME:CEST
DTSTART:20260329T010000
END:DAYLIGHT
BEGIN:STANDARD
TZOFFSETFROM:+0200
TZOFFSETTO:+0100
TZNAME:CET
DTSTART:20261025T010000
END:STANDARD
END:VTIMEZONE
BEGIN:VEVENT
DTSTART;TZID=Europe/Paris:20250720T150000
DTEND;TZID=Europe/Paris:20250720T170000
DTSTAMP:20260425T222818
CREATED:20250619T095500Z
LAST-MODIFIED:20250619T095620Z
UID:10000259-1753023600-1753030800@fachnetzwerk-gegen-antisemitismus.de
SUMMARY:Die Judensavanne. Auf jüdischen Spuren im Regenwald Südamerikas. Eine musikalisch-literarische Entdeckungsreise
DESCRIPTION:zählt und dargestellt – zwischen dem “Jerusalem des Dschungels” in Suriname und Herrnhut. Der Sächsische Musikverein e.V. verarbeitet die Erkenntnisse in dem musikalisch-literarischen Stück „Die Judensavanne. Auf jüdischen Spuren im Regenwald Südamerikas.“ \n\n\n\nBei der Recherche zur weltweiten Mission der Herrnhuter Brüdergemeine sind wir auf eine hier vollkommen unbekannte\, aber einzigartige jüdische Kultur in Südamerika gestoßen. Von dort gab es Beziehungen zu Sachsen\, was aber hierzulande in Vergessenheit geraten ist. Die jüdischen Plantagenbesitzer waren sephardische Juden und importierten ihre Sprache und Musik aus dem südlichen Europa. Wir wollen mit Klängen\, Bildern und Texten in diese fremde Welt einführen. \n\n\n\nDas Programm folgt diesen Spuren sächsischer Kaufleute und Herrnhuter Missionare und verbindet jüdisch-sephardische Musik mit Reiseberichten aus dem exotischen Suriname. Damit gelingt der Einblick in eine unerwartet vielfältige Kultur. \n\n\n\nEs singt Tehila Nini Goldstein (Sopran)\, begleitet von Aron Sariel (Mandoline). Texte und Inszenierung: Matthias Donath \n\n\n\nOrt: Herrenhaus Niederjahna in Käbschütztal OTNiederjahna\, bei Meißen \n\n\n\nAnmeldungen/Kartenreservierungen unter post@saechsischer-musikverein.de
URL:https://fachnetzwerk-gegen-antisemitismus.de/veranstaltung/2639/
END:VEVENT
END:VCALENDAR