BEGIN:VCALENDAR
VERSION:2.0
PRODID:-//Fachnetzwerk gegen Antisemitismus - ECPv6.15.11//NONSGML v1.0//EN
CALSCALE:GREGORIAN
METHOD:PUBLISH
X-ORIGINAL-URL:https://fachnetzwerk-gegen-antisemitismus.de
X-WR-CALDESC:Veranstaltungen für Fachnetzwerk gegen Antisemitismus
REFRESH-INTERVAL;VALUE=DURATION:PT1H
X-Robots-Tag:noindex
X-PUBLISHED-TTL:PT1H
BEGIN:VTIMEZONE
TZID:Europe/Paris
BEGIN:DAYLIGHT
TZOFFSETFROM:+0100
TZOFFSETTO:+0200
TZNAME:CEST
DTSTART:20240331T010000
END:DAYLIGHT
BEGIN:STANDARD
TZOFFSETFROM:+0200
TZOFFSETTO:+0100
TZNAME:CET
DTSTART:20241027T010000
END:STANDARD
BEGIN:DAYLIGHT
TZOFFSETFROM:+0100
TZOFFSETTO:+0200
TZNAME:CEST
DTSTART:20250330T010000
END:DAYLIGHT
BEGIN:STANDARD
TZOFFSETFROM:+0200
TZOFFSETTO:+0100
TZNAME:CET
DTSTART:20251026T010000
END:STANDARD
BEGIN:DAYLIGHT
TZOFFSETFROM:+0100
TZOFFSETTO:+0200
TZNAME:CEST
DTSTART:20260329T010000
END:DAYLIGHT
BEGIN:STANDARD
TZOFFSETFROM:+0200
TZOFFSETTO:+0100
TZNAME:CET
DTSTART:20261025T010000
END:STANDARD
END:VTIMEZONE
BEGIN:VEVENT
DTSTART;TZID=Europe/Paris:20250717T190000
DTEND;TZID=Europe/Paris:20250717T210000
DTSTAMP:20260425T222737
CREATED:20250709T094444Z
LAST-MODIFIED:20250709T094446Z
UID:10000263-1752778800-1752786000@fachnetzwerk-gegen-antisemitismus.de
SUMMARY:Zeitzeuginnengespräch mit der Holocaust-Überlebenden Renate Aris
DESCRIPTION:Gemeinsam mit der Jüdischen Allianz Mitteldeutschland laden wir zu einem besonderen Abend mit Renate Aris ein\, einer der letzten lebenden Holocaust-Überlebenden in Sachsen. In einem persönlichen Gespräch berichtet sie von ihrer Kindheit in einer jüdischen Familie\, der Verfolgung durch das NS-Regime und ihrem Überleben in einer Zeit\, in der Ausgrenzung und Gewalt zum Alltag wurden. Renate Aris spricht eindrucksvoll\, ruhig und offen – und schafft es\, Geschichte lebendig und berührend zu erzählen. Ihr Besuch ist eine seltene Gelegenheit\, aus erster Hand zu hören\, was Ausgrenzung\, Verlust und Überleben bedeuten – und welche Verantwortung sich darausfür unser heutiges Zusammenleben ergibt. \n\n\n\nWann? 17.07.2025 | 19:00 UhrWo? Alte Handelsbörse\, Leipzig \n\n\n\nDie Veranstaltung findet im Rahmen des Projekts Bildung durch Begegnung statt\, gefördert durch das Programm Integrative Maßnahmen des Sächsischen Staatsministeriums für Soziales\, Gesundheit und Gesellschaftlichen Zusammenhalt. Weitere Veranstaltungstermine auf erich-zeigner-haus-ev.de/bildung-durch-begegnung
URL:https://fachnetzwerk-gegen-antisemitismus.de/veranstaltung/zeitzeuginnengespraech-mit-der-holocaust-ueberlebenden-renate-aris/
END:VEVENT
END:VCALENDAR