BEGIN:VCALENDAR
VERSION:2.0
PRODID:-//Fachnetzwerk gegen Antisemitismus - ECPv6.15.11//NONSGML v1.0//EN
CALSCALE:GREGORIAN
METHOD:PUBLISH
X-WR-CALNAME:Fachnetzwerk gegen Antisemitismus
X-ORIGINAL-URL:https://fachnetzwerk-gegen-antisemitismus.de
X-WR-CALDESC:Veranstaltungen für Fachnetzwerk gegen Antisemitismus
REFRESH-INTERVAL;VALUE=DURATION:PT1H
X-Robots-Tag:noindex
X-PUBLISHED-TTL:PT1H
BEGIN:VTIMEZONE
TZID:Europe/Paris
BEGIN:DAYLIGHT
TZOFFSETFROM:+0100
TZOFFSETTO:+0200
TZNAME:CEST
DTSTART:20240331T010000
END:DAYLIGHT
BEGIN:STANDARD
TZOFFSETFROM:+0200
TZOFFSETTO:+0100
TZNAME:CET
DTSTART:20241027T010000
END:STANDARD
BEGIN:DAYLIGHT
TZOFFSETFROM:+0100
TZOFFSETTO:+0200
TZNAME:CEST
DTSTART:20250330T010000
END:DAYLIGHT
BEGIN:STANDARD
TZOFFSETFROM:+0200
TZOFFSETTO:+0100
TZNAME:CET
DTSTART:20251026T010000
END:STANDARD
BEGIN:DAYLIGHT
TZOFFSETFROM:+0100
TZOFFSETTO:+0200
TZNAME:CEST
DTSTART:20260329T010000
END:DAYLIGHT
BEGIN:STANDARD
TZOFFSETFROM:+0200
TZOFFSETTO:+0100
TZNAME:CET
DTSTART:20261025T010000
END:STANDARD
END:VTIMEZONE
BEGIN:VEVENT
DTSTART;TZID=Europe/Paris:20250623T080000
DTEND;TZID=Europe/Paris:20250625T170000
DTSTAMP:20260425T211119
CREATED:20250619T094458Z
LAST-MODIFIED:20250619T094459Z
UID:10000256-1750665600-1750870800@fachnetzwerk-gegen-antisemitismus.de
SUMMARY:Ein Escape Game entwickeln\, um Ausgrenzung nachvollziehbar zu machen
DESCRIPTION:Was bedeutet es\, wenn man innerhalb kürzester Zeit vom angesehen Bürger zum Verfolgten wird? Ein Projekt in Chemnitz sucht Jugendliche\, die gemeinsam mit Spiele-Experten ausgewählte Geschichten einstiger jüdischer Chemnitzer in der NS-Zeit erfahrbar machen. Im Laufe des Prozesses wird ein Escape Game entwickelt werden\, um sich in die Verfolgten annähernd hineinzuversetzen. \n\n\n\nMEHR
URL:https://fachnetzwerk-gegen-antisemitismus.de/veranstaltung/ein-escape-game-entwickeln-um-ausgrenzung-nachvollziehbar-zu-machen/
END:VEVENT
BEGIN:VEVENT
DTSTART;TZID=Europe/Paris:20250625T200000
DTEND;TZID=Europe/Paris:20250626T200000
DTSTAMP:20260425T211119
CREATED:20250619T094718Z
LAST-MODIFIED:20250619T094759Z
UID:10000257-1750881600-1750968000@fachnetzwerk-gegen-antisemitismus.de
SUMMARY:TANZPERFORMANCE „DIARNA -OUR HOMES“ ERKUNDET DIE FRAGE NACH HEIMAT
DESCRIPTION:Was bedeutet Heimat für uns? Diese Frage erkundet die Tanzperformance „DIARNA-Our Homes“ in den Cammerspielen Leipzig. Tanz ist dabei eine Brücke zwischen den verschiedenen Kulturen\, die in dem Stück am Beispiel von Ägypten erforscht wird. \n\n\n\nMEHR
URL:https://fachnetzwerk-gegen-antisemitismus.de/veranstaltung/tanzperformance-diarna-our-homes-erkundet-die-frage-nach-heimat/
END:VEVENT
END:VCALENDAR