BEGIN:VCALENDAR
VERSION:2.0
PRODID:-//Fachnetzwerk gegen Antisemitismus - ECPv6.15.11//NONSGML v1.0//EN
CALSCALE:GREGORIAN
METHOD:PUBLISH
X-WR-CALNAME:Fachnetzwerk gegen Antisemitismus
X-ORIGINAL-URL:https://fachnetzwerk-gegen-antisemitismus.de
X-WR-CALDESC:Veranstaltungen für Fachnetzwerk gegen Antisemitismus
REFRESH-INTERVAL;VALUE=DURATION:PT1H
X-Robots-Tag:noindex
X-PUBLISHED-TTL:PT1H
BEGIN:VTIMEZONE
TZID:Europe/Paris
BEGIN:DAYLIGHT
TZOFFSETFROM:+0100
TZOFFSETTO:+0200
TZNAME:CEST
DTSTART:20240331T010000
END:DAYLIGHT
BEGIN:STANDARD
TZOFFSETFROM:+0200
TZOFFSETTO:+0100
TZNAME:CET
DTSTART:20241027T010000
END:STANDARD
BEGIN:DAYLIGHT
TZOFFSETFROM:+0100
TZOFFSETTO:+0200
TZNAME:CEST
DTSTART:20250330T010000
END:DAYLIGHT
BEGIN:STANDARD
TZOFFSETFROM:+0200
TZOFFSETTO:+0100
TZNAME:CET
DTSTART:20251026T010000
END:STANDARD
BEGIN:DAYLIGHT
TZOFFSETFROM:+0100
TZOFFSETTO:+0200
TZNAME:CEST
DTSTART:20260329T010000
END:DAYLIGHT
BEGIN:STANDARD
TZOFFSETFROM:+0200
TZOFFSETTO:+0100
TZNAME:CET
DTSTART:20261025T010000
END:STANDARD
END:VTIMEZONE
BEGIN:VEVENT
DTSTART;TZID=Europe/Paris:20250208T190000
DTEND;TZID=Europe/Paris:20250208T210000
DTSTAMP:20260425T154033
CREATED:20250203T120133Z
LAST-MODIFIED:20250203T135511Z
UID:10000243-1739041200-1739048400@fachnetzwerk-gegen-antisemitismus.de
SUMMARY:Antisemitismus\, Rassismus und die Frage nach globaler Solidarität - Podiumsdiskussion mit Ferda Berse und Dastan Jasim
DESCRIPTION:Der erstarkende Antisemitismus seit dem islamistischen Terrorangriff der Hamas am 7. Oktober 2023 gefährdet jüdisches Leben und verlangt nach Antworten aus der solidarischen Zivilgesellschaft. Gleichzeitig sind rassistische Diskurse salonfähig\, in denen von einem „importierten Antisemitismus“ gesprochen wird. Solidarität wird verhindert\, wenn Antisemitismus und Rassismus gegeneinander ausgespielt werden.Selten in den Blick geraten die Folgen von Islamismus und Antisemitismus für die Betroffenen\, für jüdische Menschen\, für migrantisierte Menschen\, für Muslime\, für Kurden\, für Eziden…In einer Podiumsdiskussion mit den Wissenschaftlerinnen und Aktivistinnen Ferda Berse und Dastan Jasim wird über die Folgen und Verbindungen von Antisemitismus\, Islamismus und Rassismus gesprochen. Ein Schwerpunkt wird auf kurdischen und ezidischen Perspektiven liegen. Dabei wird auch der Frauenhass antisemitischer\, islamistischer Gruppen beleuchtet. Ziel ist es\, gemeinsam Denkweisen und Ansätze für eine solidatische Praxis zu entwickeln\, die sich nicht instrumentalisieren lässt. \n\n\n\n Weitere Infos unter: https://www.amadeu-antonio-stiftung.de/termine/antisemitismus-rassismus-und-die-frage-nach-globaler-solidaritaet-podiumsdiskussion-mit-ferda-berse-und-dastan-jasim/ \n\n\n\n\nhttps://www.amadeu-antonio-stiftung.de/termine/antisemitismus-rassismus-und-die-frage-nach-globaler-solidaritaet-podiumsdiskussion-mit-ferda-berse-und-dastan-jasim/
URL:https://fachnetzwerk-gegen-antisemitismus.de/veranstaltung/antisemitismus-rassismus-und-die-frage-nach-globaler-solidaritaet-podiumsdiskussion-mit-ferda-ferda-berse-und-dastan-jasim/
LOCATION:Pöge-Haus e. V.\, Hedwigstraße 20\, Leipzig\, 04315\, Germany
END:VEVENT
END:VCALENDAR