BEGIN:VCALENDAR
VERSION:2.0
PRODID:-//Fachnetzwerk gegen Antisemitismus - ECPv6.15.11//NONSGML v1.0//EN
CALSCALE:GREGORIAN
METHOD:PUBLISH
X-ORIGINAL-URL:https://fachnetzwerk-gegen-antisemitismus.de
X-WR-CALDESC:Veranstaltungen für Fachnetzwerk gegen Antisemitismus
REFRESH-INTERVAL;VALUE=DURATION:PT1H
X-Robots-Tag:noindex
X-PUBLISHED-TTL:PT1H
BEGIN:VTIMEZONE
TZID:Europe/Paris
BEGIN:DAYLIGHT
TZOFFSETFROM:+0100
TZOFFSETTO:+0200
TZNAME:CEST
DTSTART:20230326T010000
END:DAYLIGHT
BEGIN:STANDARD
TZOFFSETFROM:+0200
TZOFFSETTO:+0100
TZNAME:CET
DTSTART:20231029T010000
END:STANDARD
BEGIN:DAYLIGHT
TZOFFSETFROM:+0100
TZOFFSETTO:+0200
TZNAME:CEST
DTSTART:20240331T010000
END:DAYLIGHT
BEGIN:STANDARD
TZOFFSETFROM:+0200
TZOFFSETTO:+0100
TZNAME:CET
DTSTART:20241027T010000
END:STANDARD
BEGIN:DAYLIGHT
TZOFFSETFROM:+0100
TZOFFSETTO:+0200
TZNAME:CEST
DTSTART:20250330T010000
END:DAYLIGHT
BEGIN:STANDARD
TZOFFSETFROM:+0200
TZOFFSETTO:+0100
TZNAME:CET
DTSTART:20251026T010000
END:STANDARD
BEGIN:DAYLIGHT
TZOFFSETFROM:+0100
TZOFFSETTO:+0200
TZNAME:CEST
DTSTART:20260329T010000
END:DAYLIGHT
BEGIN:STANDARD
TZOFFSETFROM:+0200
TZOFFSETTO:+0100
TZNAME:CET
DTSTART:20261025T010000
END:STANDARD
END:VTIMEZONE
BEGIN:VEVENT
DTSTART;TZID=Europe/Paris:20241103T140000
DTEND;TZID=Europe/Paris:20250207T180000
DTSTAMP:20260423T092703
CREATED:20240913T083131Z
LAST-MODIFIED:20240913T083623Z
UID:10000211-1730642400-1738951200@fachnetzwerk-gegen-antisemitismus.de
SUMMARY:Felix-Nussbaum-Wanderausstellung
DESCRIPTION:Die Wanderausstellung wurde von der Felix-Nussbaum-Gesellschaft konzipiert und ist seit 2020 im In- und Ausland zu sehen. Am 16. Juli 1998 wurde in Osnabrück das Felix-Nussbaum-Haus eröffnet\, das mit mehr als 200 Werken die weltweit größte Sammlung des Malers beherbergt. Das Gebäude wurde nach den Plänen des amerikanisch-jüdischen Architekten Daniel Libeskind errichtet\, der die Architektur eng mit dem tragischen Leben des Künstlers und dessen Tod in Auschwitz verknüpft.  \n\n\n\nAriowitsch-Haus e.V. / Felix-Nussbaum-Gesellschaft e.V. \n\n\n\nDie Ausstellung kann bis 7. Februar besucht werden und ist montags bis donnerstags von 14.00 bis 18.00 Uhr bei freier Saalkapazität und sonntags während Veranstaltungen für Besucherinnen und Besucher geöffnet. \n\n\n\nEintritt frei
URL:https://fachnetzwerk-gegen-antisemitismus.de/veranstaltung/felix-nussbaum-wanderausstellung/
LOCATION:Kultur- und Begegnungszentrum Ariowitsch-Haus\, Hinrichsenstraße 14\, Leipzig\, 04105\, Deutschland
END:VEVENT
END:VCALENDAR